BEGIN:VCALENDAR
VERSION:2.0
METHOD:PUBLISH
PRODID:-//Agenda.ad//NONSGML v1.0//EN
BEGIN:VEVENT
CLASS:PUBLIC
UID:525dd3d6157f705d55d0f380dcd73d36@agenda.ad
DTSTAMP:20260424T080843Z
DTSTART:20200303T230000Z
DTEND:20200303T230000Z
SUMMARY:<span><span>'La machine de turing'</span>&nbsp;&middot; Saison Culturelle &middot; 56a Temporada de teatre</span>
DESCRIPTION:COMÃˆDIAHISTÃ’RICADURADA: 90 MINUTS APROX.\n\nMÃ
 ©s informaciÃ³\nhttps://www.agenda.ad/activitat/sant-julia-d
 e-loria/teatre-i-dansa/la-machine-de-turingÂ -saison-culture
 lle\n\n\nOrganitza\nAmbaixada de FranÃ§a a Andorra
LOCATION:Centre Cultural LaurediÃ 
SEQUENCE:0
TRANSP:OPAQUE
X-ALT-DESC;FMTTYPE=text/html:<!DOCTYPE HTML PUBLIC "-//W3C//DTD HTML 3.2//EN"><HTML><HEAD
 ><TITLE></TITLE></HEAD><BODY><FONT FACE="Arial" SIZE=2>COM&E
 grave;DIA<br />HIST&Ograve;RICA<br />DURADA: 90 MINUTS APROX
 .<br/><br/><b>MÃ©s informaciÃ³</b><br/><a href="https://www.
 agenda.ad/activitat/sant-julia-de-loria/teatre-i-dansa/la-ma
 chine-de-turingÂ -saison-culturelle">https://www.agenda.ad/a
 ctivitat/sant-julia-de-loria/teatre-i-dansa/la-machine-de-tu
 ringÂ -saison-culturelle</a><br/><br/><br/><b>Organitza</b><
 br/>Ambaixada de FranÃ§a a Andorra</FONT></BODY></HTML>
END:VEVENT
END:VCALENDAR